BEGIN:VCALENDAR
VERSION:2.0
PRODID:-//Instituto Luz - Cursos e Terapias - ECPv6.15.20//NONSGML v1.0//EN
CALSCALE:GREGORIAN
METHOD:PUBLISH
X-ORIGINAL-URL:https://www.institutoluz.com.br
X-WR-CALDESC:Eventos para Instituto Luz - Cursos e Terapias
REFRESH-INTERVAL;VALUE=DURATION:PT1H
X-Robots-Tag:noindex
X-PUBLISHED-TTL:PT1H
BEGIN:VTIMEZONE
TZID:America/Sao_Paulo
BEGIN:STANDARD
TZOFFSETFROM:-0200
TZOFFSETTO:-0300
TZNAME:-03
DTSTART:20160221T020000
END:STANDARD
BEGIN:DAYLIGHT
TZOFFSETFROM:-0300
TZOFFSETTO:-0200
TZNAME:-02
DTSTART:20161016T030000
END:DAYLIGHT
BEGIN:STANDARD
TZOFFSETFROM:-0200
TZOFFSETTO:-0300
TZNAME:-03
DTSTART:20170219T020000
END:STANDARD
BEGIN:DAYLIGHT
TZOFFSETFROM:-0300
TZOFFSETTO:-0200
TZNAME:-02
DTSTART:20171015T030000
END:DAYLIGHT
BEGIN:STANDARD
TZOFFSETFROM:-0200
TZOFFSETTO:-0300
TZNAME:-03
DTSTART:20180218T020000
END:STANDARD
BEGIN:DAYLIGHT
TZOFFSETFROM:-0300
TZOFFSETTO:-0200
TZNAME:-02
DTSTART:20181104T030000
END:DAYLIGHT
BEGIN:STANDARD
TZOFFSETFROM:-0200
TZOFFSETTO:-0300
TZNAME:-03
DTSTART:20190217T020000
END:STANDARD
END:VTIMEZONE
BEGIN:VEVENT
DTSTART;TZID=America/Sao_Paulo:20190109T193000
DTEND;TZID=America/Sao_Paulo:20190109T223000
DTSTAMP:20260424T090020
CREATED:20181029T133916Z
LAST-MODIFIED:20181219T220734Z
UID:1032-1547062200-1547073000@www.institutoluz.com.br
SUMMARY:Roda de Deeksha
DESCRIPTION:
URL:https://www.institutoluz.com.br/evento/roda-de-deeksha/
END:VEVENT
BEGIN:VEVENT
DTSTART;TZID=America/Sao_Paulo:20190108T193000
DTEND;TZID=America/Sao_Paulo:20190108T223000
DTSTAMP:20260424T090020
CREATED:20160802T185937Z
LAST-MODIFIED:20181129T134431Z
UID:377-1546975800-1546986600@www.institutoluz.com.br
SUMMARY:Psicanálise Abordagem Junguiana - turma de terças
DESCRIPTION:
URL:https://www.institutoluz.com.br/evento/psicanalise-abordagem-junguiana-turma-de-sabdom/
END:VEVENT
BEGIN:VEVENT
DTSTART;TZID=America/Sao_Paulo:20181220T193000
DTEND;TZID=America/Sao_Paulo:20181220T213000
DTSTAMP:20260424T090020
CREATED:20181116T033226Z
LAST-MODIFIED:20181116T033421Z
UID:1046-1545334200-1545341400@www.institutoluz.com.br
SUMMARY:Workshop: Práticas de Yoga e Pranayama voltadas para a Meditação
DESCRIPTION:
URL:https://www.institutoluz.com.br/evento/workshop-praticas-de-yoga-e-pranayama-voltadas-para-a-meditacao/
END:VEVENT
BEGIN:VEVENT
DTSTART;TZID=America/Sao_Paulo:20181213T193000
DTEND;TZID=America/Sao_Paulo:20181213T213000
DTSTAMP:20260424T090020
CREATED:20181116T033140Z
LAST-MODIFIED:20181116T033456Z
UID:1044-1544729400-1544736600@www.institutoluz.com.br
SUMMARY:Workshop: A Psicologia do Palhaço
DESCRIPTION:
URL:https://www.institutoluz.com.br/evento/workshop-a-psicologia-do-palhaco/
END:VEVENT
BEGIN:VEVENT
DTSTART;TZID=America/Sao_Paulo:20181205T193000
DTEND;TZID=America/Sao_Paulo:20181205T213000
DTSTAMP:20260424T090020
CREATED:20181116T033302Z
LAST-MODIFIED:20181116T033333Z
UID:1047-1544038200-1544045400@www.institutoluz.com.br
SUMMARY:Workshop: A luz que vem de dentro
DESCRIPTION:
URL:https://www.institutoluz.com.br/evento/workshop-a-luz-que-vem-de-dentro/
END:VEVENT
BEGIN:VEVENT
DTSTART;TZID=America/Sao_Paulo:20181201T083000
DTEND;TZID=America/Sao_Paulo:20181201T173000
DTSTAMP:20260424T090020
CREATED:20160802T185539Z
LAST-MODIFIED:20181124T123726Z
UID:375-1543653000-1543685400@www.institutoluz.com.br
SUMMARY:Feng Shui – Básico
DESCRIPTION:
URL:https://www.institutoluz.com.br/evento/feng-shui-basico/
END:VEVENT
BEGIN:VEVENT
DTSTART;TZID=America/Sao_Paulo:20181130T190000
DTEND;TZID=America/Sao_Paulo:20181130T230000
DTSTAMP:20260424T090020
CREATED:20180802T190629Z
LAST-MODIFIED:20181113T135148Z
UID:976-1543604400-1543618800@www.institutoluz.com.br
SUMMARY:Oráculo Musical “Noite com Merlin”
DESCRIPTION:
URL:https://www.institutoluz.com.br/evento/show-musical-noite-com-merlin/
END:VEVENT
BEGIN:VEVENT
DTSTART;TZID=America/Sao_Paulo:20181130T190000
DTEND;TZID=America/Sao_Paulo:20181130T190000
DTSTAMP:20260424T090020
CREATED:20160817T230611Z
LAST-MODIFIED:20181022T232716Z
UID:408-1543604400-1543604400@www.institutoluz.com.br
SUMMARY:Viagem Terapêutica em Campos do Jordão
DESCRIPTION:
URL:https://www.institutoluz.com.br/evento/viagem-terapeutica-em-campos-do-jordao/
END:VEVENT
BEGIN:VEVENT
DTSTART;TZID=America/Sao_Paulo:20181128T173000
DTEND;TZID=America/Sao_Paulo:20181128T223000
DTSTAMP:20260424T090020
CREATED:20181124T125745Z
LAST-MODIFIED:20181124T125745Z
UID:1055-1543426200-1543444200@www.institutoluz.com.br
SUMMARY:Grupo para Constelação Familiar
DESCRIPTION:
URL:https://www.institutoluz.com.br/evento/grupo-para-constelacao-familiar-2/
END:VEVENT
BEGIN:VEVENT
DTSTART;TZID=America/Sao_Paulo:20181107T193000
DTEND;TZID=America/Sao_Paulo:20181107T223000
DTSTAMP:20260424T090020
CREATED:20180214T185321Z
LAST-MODIFIED:20181029T133822Z
UID:802-1541619000-1541629800@www.institutoluz.com.br
SUMMARY:Roda de Deeksha
DESCRIPTION:
URL:https://www.institutoluz.com.br/evento/meditacao-com-deeksha-2/
END:VEVENT
BEGIN:VEVENT
DTSTART;TZID=America/Sao_Paulo:20181102T083000
DTEND;TZID=America/Sao_Paulo:20181102T173000
DTSTAMP:20260424T090020
CREATED:20180822T201751Z
LAST-MODIFIED:20181031T151157Z
UID:996-1541147400-1541179800@www.institutoluz.com.br
SUMMARY:Curso de Thetahealing™ – DNA Avançado
DESCRIPTION:
URL:https://www.institutoluz.com.br/evento/curso-vivencial-thetahealing-dna-avancado/
END:VEVENT
BEGIN:VEVENT
DTSTART;TZID=America/Sao_Paulo:20180915T140000
DTEND;TZID=America/Sao_Paulo:20180915T180000
DTSTAMP:20260424T090020
CREATED:20180903T153031Z
LAST-MODIFIED:20180903T153031Z
UID:1006-1537020000-1537034400@www.institutoluz.com.br
SUMMARY:Workshop Gratuito de Pintura Mediúnica
DESCRIPTION:
URL:https://www.institutoluz.com.br/evento/workshop-gratuito-de-pintura-mediunica/
END:VEVENT
BEGIN:VEVENT
DTSTART;TZID=America/Sao_Paulo:20180825T140000
DTEND;TZID=America/Sao_Paulo:20180825T180000
DTSTAMP:20260424T090020
CREATED:20180807T163817Z
LAST-MODIFIED:20180807T163817Z
UID:979-1535205600-1535220000@www.institutoluz.com.br
SUMMARY:Workshop Pintura Mediúnica
DESCRIPTION:
URL:https://www.institutoluz.com.br/evento/workshop-pintura-mediunica/
END:VEVENT
BEGIN:VEVENT
DTSTART;TZID=America/Sao_Paulo:20180604T193000
DTEND;TZID=America/Sao_Paulo:20180609T223000
DTSTAMP:20260424T090020
CREATED:20170713T003214Z
LAST-MODIFIED:20180515T184953Z
UID:671-1528140600-1528583400@www.institutoluz.com.br
SUMMARY:Eventos de Inauguração do Novo Centro de Treinamento do Instituto Luz
DESCRIPTION:
URL:https://www.institutoluz.com.br/evento/aula-aberta-gratuita-curso-vivencial-de-meditacao/
END:VEVENT
BEGIN:VEVENT
DTSTART;TZID=America/Sao_Paulo:20180312T193000
DTEND;TZID=America/Sao_Paulo:20180312T223000
DTSTAMP:20260424T090020
CREATED:20170714T203909Z
LAST-MODIFIED:20180306T230416Z
UID:675-1520883000-1520893800@www.institutoluz.com.br
SUMMARY:Curso Vivencial: O Eneagrama
DESCRIPTION:
URL:https://www.institutoluz.com.br/evento/curso-vivencial-o-eneagrama/
END:VEVENT
BEGIN:VEVENT
DTSTART;TZID=America/Sao_Paulo:20180308T193000
DTEND;TZID=America/Sao_Paulo:20180308T223000
DTSTAMP:20260424T090020
CREATED:20170518T180049Z
LAST-MODIFIED:20180201T152000Z
UID:640-1520537400-1520548200@www.institutoluz.com.br
SUMMARY:Aula Inaugural Gratuita e Início do Curso Vivencial Sobre Toque Terapêutico
DESCRIPTION:
URL:https://www.institutoluz.com.br/evento/aula-aberta-gratuita-do-curso-vivencial-sobre-toque-terapeutico/
END:VEVENT
BEGIN:VEVENT
DTSTART;TZID=America/Sao_Paulo:20180307T193000
DTEND;TZID=America/Sao_Paulo:20180307T223000
DTSTAMP:20260424T090020
CREATED:20161221T131604Z
LAST-MODIFIED:20180201T151821Z
UID:577-1520451000-1520461800@www.institutoluz.com.br
SUMMARY:Aula Inaugural Gratuita e Início do Curso Vivencial: Reprogramação das Crenças na Prática
DESCRIPTION:
URL:https://www.institutoluz.com.br/evento/aula-aberta-gratuita-do-curso-vivencial-como-usar-crencas-pessoais-para-empoderar-o-seu-potencial/
END:VEVENT
BEGIN:VEVENT
DTSTART;TZID=America/Sao_Paulo:20180224T083000
DTEND;TZID=America/Sao_Paulo:20180224T123000
DTSTAMP:20260424T090020
CREATED:20160707T100233Z
LAST-MODIFIED:20180119T132151Z
UID:125-1519461000-1519475400@www.institutoluz.com.br
SUMMARY:Vivencial de Astrologia
DESCRIPTION:
URL:https://www.institutoluz.com.br/evento/vivencial-de-astrologia-julho-2016/
END:VEVENT
BEGIN:VEVENT
DTSTART;TZID=America/Sao_Paulo:20180112T083000
DTEND;TZID=America/Sao_Paulo:20180112T173000
DTSTAMP:20260424T090020
CREATED:20171211T180855Z
LAST-MODIFIED:20171211T180855Z
UID:770-1515745800-1515778200@www.institutoluz.com.br
SUMMARY:Workshops com Elza Carvalho
DESCRIPTION:
URL:https://www.institutoluz.com.br/evento/workshops-com-elza-carvalho/
END:VEVENT
BEGIN:VEVENT
DTSTART;TZID=America/Sao_Paulo:20180109T193000
DTEND;TZID=America/Sao_Paulo:20180109T223000
DTSTAMP:20260424T090020
CREATED:20160802T185817Z
LAST-MODIFIED:20170915T153349Z
UID:376-1515526200-1515537000@www.institutoluz.com.br
SUMMARY:Aula Aberta Gratuita: Psicanálise Abordagem Junguiana - turma de terças
DESCRIPTION:
URL:https://www.institutoluz.com.br/evento/psicanalise-abordagem-junguiana-turma-de-tercas/
END:VEVENT
BEGIN:VEVENT
DTSTART;TZID=America/Sao_Paulo:20171216T090000
DTEND;TZID=America/Sao_Paulo:20171216T130000
DTSTAMP:20260424T090020
CREATED:20160802T191916Z
LAST-MODIFIED:20181126T150315Z
UID:382-1513414800-1513429200@www.institutoluz.com.br
SUMMARY:Grupo para Constelação Familiar - sábado
DESCRIPTION:
URL:https://www.institutoluz.com.br/evento/constelacao-familiar-no-grupo-3/
END:VEVENT
BEGIN:VEVENT
DTSTART;TZID=America/Sao_Paulo:20171203T193000
DTEND;TZID=America/Sao_Paulo:20171203T223000
DTSTAMP:20260424T090020
CREATED:20180214T185248Z
LAST-MODIFIED:20181116T230808Z
UID:801-1512329400-1512340200@www.institutoluz.com.br
SUMMARY:Roda de Deeksha
DESCRIPTION:
URL:https://www.institutoluz.com.br/evento/meditacao-com-deeksha/
END:VEVENT
BEGIN:VEVENT
DTSTART;VALUE=DATE:20171120
DTEND;VALUE=DATE:20171121
DTSTAMP:20260424T090020
CREATED:20161031T022034Z
LAST-MODIFIED:20161031T022034Z
UID:518-1511136000-1511222399@www.institutoluz.com.br
SUMMARY:Feriado: Consciência Negra
DESCRIPTION:
URL:https://www.institutoluz.com.br/evento/feriado-consciencia-negra/
END:VEVENT
BEGIN:VEVENT
DTSTART;VALUE=DATE:20171115
DTEND;VALUE=DATE:20171116
DTSTAMP:20260424T090020
CREATED:20161031T022001Z
LAST-MODIFIED:20161031T022001Z
UID:517-1510704000-1510790399@www.institutoluz.com.br
SUMMARY:Feriado: Proclamação da República
DESCRIPTION:
URL:https://www.institutoluz.com.br/evento/feriado-proclamacao-da-republica/
END:VEVENT
BEGIN:VEVENT
DTSTART;VALUE=DATE:20171102
DTEND;VALUE=DATE:20171103
DTSTAMP:20260424T090020
CREATED:20161031T021929Z
LAST-MODIFIED:20161031T021929Z
UID:516-1509580800-1509667199@www.institutoluz.com.br
SUMMARY:Feriado: Finados
DESCRIPTION:
URL:https://www.institutoluz.com.br/evento/feriado-finados/
END:VEVENT
BEGIN:VEVENT
DTSTART;TZID=America/Sao_Paulo:20171027T190000
DTEND;TZID=America/Sao_Paulo:20171027T223000
DTSTAMP:20260424T090020
CREATED:20170913T145517Z
LAST-MODIFIED:20181001T205613Z
UID:729-1509130800-1509143400@www.institutoluz.com.br
SUMMARY:Curso de Thetahealing™ – DNA Básico
DESCRIPTION:
URL:https://www.institutoluz.com.br/evento/thetahealing-dna-basico/
END:VEVENT
BEGIN:VEVENT
DTSTART;TZID=America/Sao_Paulo:20171021T193000
DTEND;TZID=America/Sao_Paulo:20171021T223000
DTSTAMP:20260424T090020
CREATED:20170713T003131Z
LAST-MODIFIED:20170911T210816Z
UID:670-1508614200-1508625000@www.institutoluz.com.br
SUMMARY:Curso Vivencial de Meditação
DESCRIPTION:
URL:https://www.institutoluz.com.br/evento/curso-vivencial-de-meditacao/
END:VEVENT
BEGIN:VEVENT
DTSTART;TZID=America/Sao_Paulo:20171019T193000
DTEND;TZID=America/Sao_Paulo:20171019T223000
DTSTAMP:20260424T090020
CREATED:20170518T175942Z
LAST-MODIFIED:20170915T154339Z
UID:639-1508441400-1508452200@www.institutoluz.com.br
SUMMARY:Curso Vivencial Sobre Toque Terapêutico
DESCRIPTION:
URL:https://www.institutoluz.com.br/evento/curso-vivencial-sobre-toque-terapeutico/
END:VEVENT
BEGIN:VEVENT
DTSTART;VALUE=DATE:20171012
DTEND;VALUE=DATE:20171013
DTSTAMP:20260424T090020
CREATED:20161031T021901Z
LAST-MODIFIED:20161031T021901Z
UID:515-1507766400-1507852799@www.institutoluz.com.br
SUMMARY:Feriado: Nossa Senhora
DESCRIPTION:
URL:https://www.institutoluz.com.br/evento/feriado-nossa-senhora/
END:VEVENT
BEGIN:VEVENT
DTSTART;VALUE=DATE:20170907
DTEND;VALUE=DATE:20170908
DTSTAMP:20260424T090020
CREATED:20161031T021833Z
LAST-MODIFIED:20161031T021833Z
UID:514-1504742400-1504828799@www.institutoluz.com.br
SUMMARY:Feriado: Independência
DESCRIPTION:
URL:https://www.institutoluz.com.br/evento/feriado-independencia/
END:VEVENT
END:VCALENDAR